BEGIN:VCALENDAR
VERSION:2.0
PRODID:-//demosphere.net//NONSGML kigkonsult.se iCalcreator 2.22.1//
METHOD:REQUEST
X-WR-TIMEZONE:Europe/Berlin
BEGIN:VEVENT
UID:https://ffm.demosphere.net/event/12507
DTSTAMP:20260428T160000Z
DESCRIPTION:more info here: https://ffm.demosphere.net/event/12507
DTSTART:20260428T160000Z
DTEND:20260428T170000Z
GEO:+50.118779;+8.650712
LOCATION:Frankfurt\, \nStudierendenhaus \nCampus Bockenheim \nfeministische
  Bibliothek ffm \nMertonstraße 26 \n60325 Frankfurt
SUMMARY:Öffnungszeit feministische Bibliothek
URL:https://ffm.demosphere.net/event/12507
END:VEVENT
END:VCALENDAR
