BEGIN:VCALENDAR
VERSION:2.0
PRODID:-//demosphere.net//NONSGML kigkonsult.se iCalcreator 2.22.1//
METHOD:REQUEST
X-WR-TIMEZONE:Europe/Berlin
BEGIN:VEVENT
UID:https://ffm.demosphere.net/event/12509
DTSTAMP:20260516T170000Z
DESCRIPTION:more info here: https://ffm.demosphere.net/event/12509
DTSTART:20260516T170000Z
DTEND:20260516T180000Z
LOCATION:Frankfurt Bockenheim\, \nMertonstraße 26-28\; Studierendenhaus (Ca
 fe Koz)
SUMMARY:Konzert: Yung FSK 18
URL:https://ffm.demosphere.net/event/12509
END:VEVENT
END:VCALENDAR
