BEGIN:VCALENDAR
VERSION:2.0
PRODID:-//demosphere.net//NONSGML kigkonsult.se iCalcreator 2.22.1//
METHOD:REQUEST
X-WR-TIMEZONE:Europe/Berlin
BEGIN:VEVENT
UID:https://ffm.demosphere.net/event/12510
DTSTAMP:20260508T160000Z
DESCRIPTION:more info here: https://ffm.demosphere.net/event/12510
DTSTART:20260508T160000Z
DTEND:20260508T170000Z
GEO:+50.115419;+8.689723
LOCATION:Frankfurt\, \nKlapperfeld \nKlapperfeldstraße 5
SUMMARY:Nie wieder? Erinnerungskultur und Geschichtsdeutung seit der Zeiten
 wende.
URL:https://ffm.demosphere.net/event/12510
END:VEVENT
END:VCALENDAR
