BEGIN:VCALENDAR
VERSION:2.0
PRODID:-//demosphere.net//NONSGML kigkonsult.se iCalcreator 2.22.1//
METHOD:REQUEST
X-WR-TIMEZONE:Europe/Berlin
BEGIN:VEVENT
UID:https://ffm.demosphere.net/event/12512
DTSTAMP:20260501T160000Z
DESCRIPTION:more info here: https://ffm.demosphere.net/event/12512
DTSTART:20260501T160000Z
DTEND:20260501T170000Z
LOCATION:Gallus\, \nFrankenallee 152
SUMMARY:1.Mai 2026 Frankfurt: Das Ziel vor Augen – Sozialismus!
URL:https://ffm.demosphere.net/event/12512
END:VEVENT
END:VCALENDAR
