BEGIN:VCALENDAR
VERSION:2.0
PRODID:-//demosphere.net//NONSGML kigkonsult.se iCalcreator 2.22.1//
METHOD:REQUEST
X-WR-TIMEZONE:Europe/Berlin
BEGIN:VEVENT
UID:https://ffm.demosphere.net/event/12513
DTSTAMP:20260430T070000Z
DESCRIPTION:more info here: https://ffm.demosphere.net/event/12513
DTSTART:20260430T070000Z
DTEND:20260430T080000Z
GEO:+50.128578;+8.669437
LOCATION:Frankfurt Westend\, \nPEG-Gebäude (Foyer)\, IG-Farben-Campus\, Wes
 tend-Nord \n60323 Frankfurt am Main
SUMMARY:Marktplatz der kritischen Initiativen
URL:https://ffm.demosphere.net/event/12513
END:VEVENT
END:VCALENDAR
