BEGIN:VCALENDAR
VERSION:2.0
PRODID:-//demosphere.net//NONSGML kigkonsult.se iCalcreator 2.22.1//
METHOD:REQUEST
X-WR-TIMEZONE:Europe/Berlin
BEGIN:VEVENT
UID:https://ffm.demosphere.net/event/12515
DTSTAMP:20260428T170000Z
DESCRIPTION:more info here: https://ffm.demosphere.net/event/12515
DTSTART:20260428T170000Z
DTEND:20260428T180000Z
LOCATION:Frankfurt Bockenheim\, \n2og:dondorf (ehemalige Dondorf Druckerei)
 \, Gabriel-Riesser-Weg 3 \n60325 Frankfurt am Main
SUMMARY:Buchvorstellung und Diskussion 'in the Third World War'
URL:https://ffm.demosphere.net/event/12515
END:VEVENT
END:VCALENDAR
