BEGIN:VCALENDAR
VERSION:2.0
PRODID:-//demosphere.net//NONSGML kigkonsult.se iCalcreator 2.22.1//
METHOD:REQUEST
X-WR-TIMEZONE:Europe/Berlin
BEGIN:VEVENT
UID:https://ffm.demosphere.net/event/12516
DTSTAMP:20260508T080000Z
DESCRIPTION:more info here: https://ffm.demosphere.net/event/12516
DTSTART:20260508T080000Z
DTEND:20260508T090000Z
GEO:+50.108888;+8.673384
LOCATION:Frankfurt\, \nWilly-Brandt-Platz
SUMMARY:Schulstreik gegen Wehrpflicht
URL:https://ffm.demosphere.net/event/12516
END:VEVENT
END:VCALENDAR
