BEGIN:VCALENDAR
VERSION:2.0
PRODID:-//demosphere.net//NONSGML kigkonsult.se iCalcreator 2.22.1//
METHOD:REQUEST
X-WR-TIMEZONE:Europe/Berlin
BEGIN:VEVENT
UID:https://ffm.demosphere.net/event/12517
DTSTAMP:20260513T170000Z
DESCRIPTION:more info here: https://ffm.demosphere.net/event/12517
DTSTART:20260513T170000Z
DTEND:20260513T180000Z
LOCATION:\, \nStudierendenhaus in der Mertonstraße 26\, 60325 Frankfurt am 
 Main
SUMMARY:„Wir müssen kriegstüchtig werden!“ – Warum eigentlich?VA von Gruppe
  Widerspruch
URL:https://ffm.demosphere.net/event/12517
END:VEVENT
END:VCALENDAR
